BEGIN:VCALENDAR
VERSION:2.0
PRODID:-//DP Pro Event Calendar//3.2.7//EN
BEGIN:VEVENT
UID:38ea2680-db7d-41aa-9577-5d4bab5d99ca
DTSTART;TZID=Europe/Rome:20201015T203000
DTEND;TZID=Europe/Rome:20201015T220000
DTSTAMP:20241027T023910Z
SUMMARY:Corso nuovi ministri straordinari della Comunione Eucaristica
DESCRIPTION:
LOCATION:Brescia\, Polo Culturale Diocesano
URL:
END:VEVENT
END:VCALENDAR