BEGIN:VCALENDAR
VERSION:2.0
PRODID:-//DP Pro Event Calendar//3.2.7//EN
BEGIN:VEVENT
UID:b4da69e8-eeaf-49eb-a419-5264eabc1403
DTSTART;TZID=Europe/Rome:20201130T203000
DTEND;TZID=Europe/Rome:20201130T210000
DTSTAMP:20260421T014350Z
SUMMARY:Corso Segreteria Oratorio 2
DESCRIPTION:
LOCATION:
URL:
END:VEVENT
END:VCALENDAR