BEGIN:VCALENDAR
VERSION:2.0
PRODID:-//DP Pro Event Calendar//3.2.7//EN
BEGIN:VEVENT
UID:5ec9793f-3382-4211-be69-a826ff56e1f0
DTSTART;TZID=Europe/Rome;VALUE=DATE:20201219
DTEND;TZID=Europe/Rome;VALUE=DATE:20201220
DTSTAMP:20241027T023912Z
SUMMARY:Starlight
DESCRIPTION:in parrocchia
LOCATION:
URL:
END:VEVENT
END:VCALENDAR