BEGIN:VCALENDAR
VERSION:2.0
PRODID:-//DP Pro Event Calendar//3.2.7//EN
BEGIN:VEVENT
UID:fab19d09-cf5a-4f2c-988e-1a91d847fa67
DTSTART;TZID=Europe/Rome:20210104T183000
DTEND;TZID=Europe/Rome:20210104T193000
DTSTAMP:20241027T023914Z
SUMMARY:S. Messa del Vescovo con le associazioni del Turismo
DESCRIPTION:
LOCATION:Brescia\, Basilica di S. Maria delle Grazie
URL:
END:VEVENT
END:VCALENDAR