BEGIN:VCALENDAR
VERSION:2.0
PRODID:-//DP Pro Event Calendar//3.2.7//EN
BEGIN:VEVENT
UID:233e79ce-cf97-4cb0-9eb0-c9eff16615c9
DTSTART;TZID=Europe/Rome;VALUE=DATE:20210111
DTEND;TZID=Europe/Rome;VALUE=DATE:20210112
DTSTAMP:20241027T023912Z
SUMMARY:Corso Giovani Educatori 1
DESCRIPTION:Online
LOCATION:
URL:
END:VEVENT
END:VCALENDAR