BEGIN:VCALENDAR
VERSION:2.0
PRODID:-//DP Pro Event Calendar//3.2.7//EN
BEGIN:VEVENT
UID:1fe1a97f-d662-434d-9102-9467147c0ac6
DTSTART;TZID=Europe/Rome;VALUE=DATE:20210118
DTEND;TZID=Europe/Rome;VALUE=DATE:20210119
DTSTAMP:20241027T023913Z
SUMMARY:Corso Giovani Educatori 2
DESCRIPTION:Online&nbsp\;&nbsp\;
LOCATION:
URL:
END:VEVENT
END:VCALENDAR