BEGIN:VCALENDAR
VERSION:2.0
PRODID:-//DP Pro Event Calendar//3.2.7//EN
BEGIN:VEVENT
UID:50ddd0b3-001d-4f0c-ae5c-6d3a916a25b3
DTSTART;TZID=Europe/Rome;VALUE=DATE:20210125
DTEND;TZID=Europe/Rome;VALUE=DATE:20210126
DTSTAMP:20241027T023914Z
SUMMARY:Corso Giovani Educatori 3
DESCRIPTION:Online&nbsp\;&nbsp\;
LOCATION:
URL:
END:VEVENT
END:VCALENDAR