BEGIN:VCALENDAR
VERSION:2.0
PRODID:-//DP Pro Event Calendar//3.2.7//EN
BEGIN:VEVENT
UID:2afccb4c-cc8d-4938-85a2-eeac776857ce
DTSTART;TZID=Europe/Rome:20210206T140000
DTEND;TZID=Europe/Rome:20210206T180000
DTSTAMP:20241027T023915Z
SUMMARY:StartUp TV
DESCRIPTION:
LOCATION:In diretta streaming dall'oratorio di Saiano
URL:
END:VEVENT
END:VCALENDAR