BEGIN:VCALENDAR
VERSION:2.0
PRODID:-//DP Pro Event Calendar//3.2.7//EN
BEGIN:VEVENT
UID:5d36cfcf-3424-4c3e-8bda-64a791cb5a37
DTSTART;TZID=Europe/Rome:20210216T100000
DTEND;TZID=Europe/Rome:20210216T123000
DTSTAMP:20241027T023918Z
SUMMARY:Incontro di ascolto sui temi di  Oratorio e Catechesi
DESCRIPTION:Zone 20-21-22-23
LOCATION:Sarezzo
URL:
END:VEVENT
END:VCALENDAR