BEGIN:VCALENDAR
VERSION:2.0
PRODID:-//DP Pro Event Calendar//3.2.7//EN
BEGIN:VEVENT
UID:8a5c8297-d431-4564-9eb0-1bb5791408d5
DTSTART;TZID=Europe/Rome:20210222T100000
DTEND;TZID=Europe/Rome:20210222T123000
DTSTAMP:20241027T023918Z
SUMMARY:Incontro di ascolto sui temi di  Oratorio e Catechesi
DESCRIPTION:Zone 12-13-14
LOCATION:Leno
URL:
END:VEVENT
END:VCALENDAR