BEGIN:VCALENDAR
VERSION:2.0
PRODID:-//DP Pro Event Calendar//3.2.7//EN
BEGIN:VEVENT
UID:45950621-95dd-47d5-80c2-0eaacd29d9a0
DTSTART;TZID=Europe/Rome:20210224T100000
DTEND;TZID=Europe/Rome:20210224T123000
DTSTAMP:20241027T023919Z
SUMMARY:Incontro di ascolto sui temi di  Oratorio e Catechesi
DESCRIPTION:Zone 8-9-10-11
LOCATION:Orzinuovi
URL:
END:VEVENT
END:VCALENDAR