BEGIN:VCALENDAR
VERSION:2.0
PRODID:-//DP Pro Event Calendar//3.2.7//EN
BEGIN:VEVENT
UID:d20c2105-998d-45b6-9b86-6e9f21fd3356
DTSTART;TZID=Europe/Rome:20210225T201500
DTEND;TZID=Europe/Rome:20210225T214500
DTSTAMP:20241027T023915Z
SUMMARY:Giovani di Preghiera
DESCRIPTION:
LOCATION:
URL:
END:VEVENT
END:VCALENDAR