BEGIN:VCALENDAR
VERSION:2.0
PRODID:-//DP Pro Event Calendar//3.2.7//EN
BEGIN:VEVENT
UID:9d591768-ffbe-4e8e-b382-acea49ca5712
DTSTART;TZID=Europe/Rome:20210302T100000
DTEND;TZID=Europe/Rome:20210302T123000
DTSTAMP:20241027T023920Z
SUMMARY:Incontro di ascolto sui temi di  Oratorio e Catechesi
DESCRIPTION:Zone 5-6-7
LOCATION:Capriolo
URL:
END:VEVENT
END:VCALENDAR