BEGIN:VCALENDAR
VERSION:2.0
PRODID:-//DP Pro Event Calendar//3.2.7//EN
BEGIN:VEVENT
UID:10f39694-0373-4989-970b-465c47cd907c
DTSTART;TZID=Europe/Rome:20210304T201500
DTEND;TZID=Europe/Rome:20210304T214500
DTSTAMP:20241027T023916Z
SUMMARY:Giovani di Preghiera
DESCRIPTION:
LOCATION:
URL:
END:VEVENT
END:VCALENDAR