BEGIN:VCALENDAR
VERSION:2.0
PRODID:-//DP Pro Event Calendar//3.2.7//EN
BEGIN:VEVENT
UID:b7682ece-252b-40bc-aabb-fddc491bb26c
DTSTART;TZID=Europe/Rome:20210308T100000
DTEND;TZID=Europe/Rome:20210308T123000
DTSTAMP:20241027T023920Z
SUMMARY:Incontro di ascolto sui temi di  Oratorio e Catechesi
DESCRIPTION:Zone 1-2-3-4
LOCATION:Piamborno
URL:
END:VEVENT
END:VCALENDAR