BEGIN:VCALENDAR
VERSION:2.0
PRODID:-//DP Pro Event Calendar//3.2.7//EN
BEGIN:VEVENT
UID:0685f1cb-b88a-416c-801c-72b4ce861c5d
DTSTART;TZID=Europe/Rome:20210311T201500
DTEND;TZID=Europe/Rome:20210311T214500
DTSTAMP:20241027T023917Z
SUMMARY:Giovani di Preghiera
DESCRIPTION:
LOCATION:
URL:
END:VEVENT
END:VCALENDAR