BEGIN:VCALENDAR
VERSION:2.0
PRODID:-//DP Pro Event Calendar//3.2.7//EN
BEGIN:VEVENT
UID:c9276d42-c279-4977-b7bb-3e617d9717f3
DTSTART;TZID=Europe/Rome:20210318T201500
DTEND;TZID=Europe/Rome:20210318T214500
DTSTAMP:20241027T023917Z
SUMMARY:Giovani di Preghiera
DESCRIPTION:
LOCATION:
URL:
END:VEVENT
END:VCALENDAR