BEGIN:VCALENDAR
VERSION:2.0
PRODID:-//DP Pro Event Calendar//3.2.7//EN
BEGIN:VEVENT
UID:83320c2e-e8fa-4f65-b2df-ab25207dffe6
DTSTART;TZID=Europe/Rome;VALUE=DATE:20210320
DTEND;TZID=Europe/Rome;VALUE=DATE:20210321
DTSTAMP:20241027T023922Z
SUMMARY:Presentazione Grest
DESCRIPTION:
LOCATION:
URL:
END:VEVENT
END:VCALENDAR