BEGIN:VCALENDAR
VERSION:2.0
PRODID:-//DP Pro Event Calendar//3.2.7//EN
BEGIN:VEVENT
UID:fd447806-5f87-4123-a973-30f666ce7b1a
DTSTART;TZID=Europe/Rome:20210407T203000
DTEND;TZID=Europe/Rome:20210407T223000
DTSTAMP:20241027T023921Z
SUMMARY:Sai Fischiare online
DESCRIPTION:
LOCATION:
URL:
END:VEVENT
END:VCALENDAR