BEGIN:VCALENDAR
VERSION:2.0
PRODID:-//DP Pro Event Calendar//3.2.7//EN
BEGIN:VEVENT
UID:8959be89-6764-4703-8375-b09d6493b9de
DTSTART;TZID=Europe/Rome;VALUE=DATE:20210411
DTEND;TZID=Europe/Rome;VALUE=DATE:20210412
DTSTAMP:20241027T023921Z
SUMMARY:Sai Fischiare?
DESCRIPTION:
LOCATION:
URL:
END:VEVENT
END:VCALENDAR