BEGIN:VCALENDAR
VERSION:2.0
PRODID:-//DP Pro Event Calendar//3.2.7//EN
BEGIN:VEVENT
UID:84a860c8-2fc1-4ee2-8a99-8ea23f9f2d0d
DTSTART;TZID=Europe/Rome:20210415T200000
DTEND;TZID=Europe/Rome:20210415T210000
DTSTAMP:20241027T023923Z
SUMMARY:Lectio Divina sul Vangelo della domenica
DESCRIPTION:
LOCATION:In diretta dal Seminario Diocesano
URL:
END:VEVENT
END:VCALENDAR