BEGIN:VCALENDAR
VERSION:2.0
PRODID:-//DP Pro Event Calendar//3.2.7//EN
BEGIN:VEVENT
UID:8caa1821-4d3d-48d0-9697-d1ed93f12886
DTSTART;TZID=Europe/Rome:20210422T200000
DTEND;TZID=Europe/Rome:20210422T210000
DTSTAMP:20241027T023923Z
SUMMARY:Lectio Divina sul Vangelo della domenica
DESCRIPTION:
LOCATION:In diretta dal Seminario Diocesano
URL:
END:VEVENT
END:VCALENDAR