BEGIN:VCALENDAR
VERSION:2.0
PRODID:-//DP Pro Event Calendar//3.2.7//EN
BEGIN:VEVENT
UID:8e0178c8-ba29-4651-b726-47fb55185d09
DTSTART;TZID=Europe/Rome:20210429T200000
DTEND;TZID=Europe/Rome:20210429T210000
DTSTAMP:20241027T023924Z
SUMMARY:Lectio Divina sul Vangelo della domenica
DESCRIPTION:
LOCATION:In diretta dal Seminario Diocesano
URL:
END:VEVENT
END:VCALENDAR