BEGIN:VCALENDAR
VERSION:2.0
PRODID:-//DP Pro Event Calendar//3.2.7//EN
BEGIN:VEVENT
UID:16f18c84-bb68-4f8a-a3ce-2f51d225e277
DTSTART;TZID=Europe/Rome:20210505T203000
DTEND;TZID=Europe/Rome:20210505T223000
DTSTAMP:20241027T023925Z
SUMMARY:Sai Fischiare?
DESCRIPTION:
LOCATION:
URL:
END:VEVENT
END:VCALENDAR