BEGIN:VCALENDAR
VERSION:2.0
PRODID:-//DP Pro Event Calendar//3.2.7//EN
BEGIN:VEVENT
UID:992e58a0-81f7-405e-8ab2-0a41e779f475
DTSTART;TZID=Europe/Rome:20210506T200000
DTEND;TZID=Europe/Rome:20210506T210000
DTSTAMP:20241027T023924Z
SUMMARY:Lectio Divina sul Vangelo della domenica
DESCRIPTION:
LOCATION:In diretta dal Seminario Diocesano
URL:
END:VEVENT
END:VCALENDAR