BEGIN:VCALENDAR
VERSION:2.0
PRODID:-//DP Pro Event Calendar//3.2.7//EN
BEGIN:VEVENT
UID:4139bc39-1769-4295-a47f-4774b5785faa
DTSTART;TZID=Europe/Rome:20210509T093000
DTEND;TZID=Europe/Rome:20210509T170000
DTSTAMP:20241027T023925Z
SUMMARY:Sai Fischiare?
DESCRIPTION:
LOCATION:
URL:
END:VEVENT
END:VCALENDAR