BEGIN:VCALENDAR
VERSION:2.0
PRODID:-//DP Pro Event Calendar//3.2.7//EN
BEGIN:VEVENT
UID:b0ca45b6-127e-49aa-9633-2650ada61db2
DTSTART;TZID=Europe/Rome:20210901T203000
DTEND;TZID=Europe/Rome:20210901T213000
DTSTAMP:20241027T024000Z
SUMMARY:Presentazione Anno Oratoriano
DESCRIPTION:
LOCATION:
URL:
END:VEVENT
END:VCALENDAR