BEGIN:VCALENDAR
VERSION:2.0
PRODID:-//DP Pro Event Calendar//3.2.7//EN
BEGIN:VEVENT
UID:1c4d4589-78c5-4fc8-956f-a383f8173282
DTSTART;TZID=Europe/Rome:20210914T140000
DTEND;TZID=Europe/Rome:20210914T160000
DTSTAMP:20241027T024001Z
SUMMARY:Incontro dei Curati
DESCRIPTION:
LOCATION:Centro Pastorale Paolo VI\, Brescia
URL:
END:VEVENT
END:VCALENDAR