BEGIN:VCALENDAR
VERSION:2.0
PRODID:-//DP Pro Event Calendar//3.2.7//EN
BEGIN:VEVENT
UID:5d0f59c4-edfa-45ad-b8f1-1ae76d48cb83
DTSTART;TZID=Europe/Rome:20210926T183000
DTEND;TZID=Europe/Rome:20210926T200000
DTSTAMP:20241027T023930Z
SUMMARY:Cresime degli adulti
DESCRIPTION:
LOCATION:Cattedrale di Brescia
URL:
END:VEVENT
END:VCALENDAR