BEGIN:VCALENDAR
VERSION:2.0
PRODID:-//DP Pro Event Calendar//3.2.7//EN
BEGIN:VEVENT
UID:3fd11803-4cec-4aa2-97c5-bf3f663b7583
DTSTART;TZID=Europe/Rome:20211010T183000
DTEND;TZID=Europe/Rome:20211010T200000
DTSTAMP:20241027T023930Z
SUMMARY:Cresime degli adulti
DESCRIPTION:
LOCATION:Cattedrale di Brescia
URL:
END:VEVENT
END:VCALENDAR