BEGIN:VCALENDAR
VERSION:2.0
PRODID:-//DP Pro Event Calendar//3.2.7//EN
BEGIN:VEVENT
UID:8c255b01-45c0-40a2-8611-c4452e76de7d
DTSTART;TZID=Europe/Rome:20211011T203000
DTEND;TZID=Europe/Rome:20211011T210000
DTSTAMP:20241027T024003Z
SUMMARY:Catechisti online #1
DESCRIPTION:Inizio corso
LOCATION:
URL:
END:VEVENT
END:VCALENDAR