BEGIN:VCALENDAR
VERSION:2.0
PRODID:-//DP Pro Event Calendar//3.2.7//EN
BEGIN:VEVENT
UID:8b16104c-1069-4ac4-af2f-e6a4c93e3912
DTSTART;TZID=Europe/Rome;VALUE=DATE:20211017
DTEND;TZID=Europe/Rome;VALUE=DATE:20211018
DTSTAMP:20241027T024001Z
SUMMARY:Meeting dei chierichetti
DESCRIPTION:
LOCATION:
URL:
END:VEVENT
END:VCALENDAR