BEGIN:VCALENDAR
VERSION:2.0
PRODID:-//DP Pro Event Calendar//3.2.7//EN
BEGIN:VEVENT
UID:8d31a807-12fb-483a-94ec-c97e2b6b6df2
DTSTART;TZID=Europe/Rome:20211022T090000
DTEND;TZID=Europe/Rome:20211022T173000
DTSTAMP:20241027T023926Z
SUMMARY:Convegno Dante e Cristianesimo
DESCRIPTION:
LOCATION:Università Cattolica del Sacro Cuore - via Trieste \, Brescia
URL:
END:VEVENT
END:VCALENDAR