BEGIN:VCALENDAR
VERSION:2.0
PRODID:-//DP Pro Event Calendar//3.2.7//EN
BEGIN:VEVENT
UID:444b700a-dcc3-4be2-a25c-c682636054c1
DTSTART;TZID=Europe/Rome:20211105T173000
DTEND;TZID=Europe/Rome:20211105T190000
DTSTAMP:20241027T023926Z
SUMMARY:Pensare il cristianesimo - Modulo 1
DESCRIPTION:Letteratura e Cristianesimo
LOCATION:Università Cattolica del Sacro Cuore - via Trieste\, Brescia
URL:
END:VEVENT
END:VCALENDAR