BEGIN:VCALENDAR
VERSION:2.0
PRODID:-//DP Pro Event Calendar//3.2.7//EN
BEGIN:VEVENT
UID:19159d30-12a6-4655-9732-2560311af27f
DTSTART;TZID=Europe/Rome:20211112T173000
DTEND;TZID=Europe/Rome:20211112T190000
DTSTAMP:20241027T023926Z
SUMMARY:Pensare il cristianesimo - Modulo 1
DESCRIPTION:Letteratura e Cristianesimo
LOCATION:Università Cattolica del Sacro Cuore - via Trieste\, Brescia
URL:
END:VEVENT
END:VCALENDAR