BEGIN:VCALENDAR
VERSION:2.0
PRODID:-//DP Pro Event Calendar//3.2.7//EN
BEGIN:VEVENT
UID:da56c45e-5ab7-4ab9-9b32-ca9102c092db
DTSTART;TZID=Europe/Rome;VALUE=DATE:20211113
DTEND;TZID=Europe/Rome;VALUE=DATE:20211114
DTSTAMP:20241027T024003Z
SUMMARY:Raccolta di SAN MARTINO
DESCRIPTION:Scopri di più...
LOCATION:
URL:
END:VEVENT
END:VCALENDAR