BEGIN:VCALENDAR
VERSION:2.0
PRODID:-//DP Pro Event Calendar//3.2.7//EN
BEGIN:VEVENT
UID:e77818b0-a8d8-434d-819f-b906d242f73d
DTSTART;TZID=Europe/Rome;VALUE=DATE:20211114
DTEND;TZID=Europe/Rome;VALUE=DATE:20211115
DTSTAMP:20241027T024003Z
SUMMARY:Raccolta di SAN MARTINO
DESCRIPTION:Scopri di più...
LOCATION:
URL:
END:VEVENT
END:VCALENDAR