BEGIN:VCALENDAR
VERSION:2.0
PRODID:-//DP Pro Event Calendar//3.2.7//EN
BEGIN:VEVENT
UID:066a24a8-048c-41fd-88c5-900642be6e75
DTSTART;TZID=Europe/Rome:20211119T173000
DTEND;TZID=Europe/Rome:20211119T190000
DTSTAMP:20241027T023926Z
SUMMARY:Pensare il cristianesimo - Modulo 1
DESCRIPTION:Letteratura e Cristianesimo
LOCATION:Università Cattolica del Sacro Cuore - via Trieste\, Brescia
URL:
END:VEVENT
END:VCALENDAR