BEGIN:VCALENDAR
VERSION:2.0
PRODID:-//DP Pro Event Calendar//3.2.7//EN
BEGIN:VEVENT
UID:a4638950-8624-4e74-913d-d29297f7d8ad
DTSTART;TZID=Europe/Rome:20211126T173000
DTEND;TZID=Europe/Rome:20211126T190000
DTSTAMP:20241027T023926Z
SUMMARY:Pensare il cristianesimo - Modulo 1
DESCRIPTION:Letteratura e Cristianesimo
LOCATION:Università Cattolica del Sacro Cuore - via Trieste\, Brescia
URL:
END:VEVENT
END:VCALENDAR