BEGIN:VCALENDAR
VERSION:2.0
PRODID:-//DP Pro Event Calendar//3.2.7//EN
BEGIN:VEVENT
UID:ae21bc70-2270-4da6-a335-c36fa3e6509c
DTSTART;TZID=Europe/Rome:20211203T173000
DTEND;TZID=Europe/Rome:20211203T190000
DTSTAMP:20241027T023927Z
SUMMARY:Pensare il cristianesimo - Modulo 2
DESCRIPTION:Musica e Cristianesimo
LOCATION:Università Cattolica del Sacro Cuore - via Trieste\, Brescia
URL:
END:VEVENT
END:VCALENDAR