BEGIN:VCALENDAR
VERSION:2.0
PRODID:-//DP Pro Event Calendar//3.2.7//EN
BEGIN:VEVENT
UID:fbfe3eba-9bf1-4435-92c7-e65f3fd812e5
DTSTART;TZID=Europe/Rome:20211203T173000
DTEND;TZID=Europe/Rome:20211203T190000
DTSTAMP:20241027T023926Z
SUMMARY:Pensare il cristianesimo - Modulo 1
DESCRIPTION:Letteratura e Cristianesimo
LOCATION:Università Cattolica del Sacro Cuore - via Trieste\, Brescia
URL:
END:VEVENT
END:VCALENDAR