BEGIN:VCALENDAR
VERSION:2.0
PRODID:-//DP Pro Event Calendar//3.2.7//EN
BEGIN:VEVENT
UID:ff4f5e9a-182d-4894-b64e-666174f05d9c
DTSTART;TZID=Europe/Rome:20211210T173000
DTEND;TZID=Europe/Rome:20211210T190000
DTSTAMP:20241027T023927Z
SUMMARY:Pensare il cristianesimo - Modulo 2
DESCRIPTION:Musica e Cristianesimo
LOCATION:Università Cattolica del Sacro Cuore - via Trieste\, Brescia
URL:
END:VEVENT
END:VCALENDAR