BEGIN:VCALENDAR
VERSION:2.0
PRODID:-//DP Pro Event Calendar//3.2.7//EN
BEGIN:VEVENT
UID:79215ed2-0b08-4c00-bd77-c656ea11f55d
DTSTART;TZID=Europe/Rome:20211217T173000
DTEND;TZID=Europe/Rome:20211217T190000
DTSTAMP:20241027T023927Z
SUMMARY:Pensare il cristianesimo - Modulo 2
DESCRIPTION:Musica e Cristianesimo
LOCATION:Università Cattolica del Sacro Cuore - via Trieste\, Brescia
URL:
END:VEVENT
END:VCALENDAR