BEGIN:VCALENDAR
VERSION:2.0
PRODID:-//DP Pro Event Calendar//3.2.7//EN
BEGIN:VEVENT
UID:56eb18dd-a872-4866-b876-ee5df769ee24
DTSTART;TZID=Europe/Rome:20220107T173000
DTEND;TZID=Europe/Rome:20220107T190000
DTSTAMP:20241027T023927Z
SUMMARY:Pensare il cristianesimo - Modulo 2
DESCRIPTION:Musica e Cristianesimo
LOCATION:Università Cattolica del Sacro Cuore - via Trieste\, Brescia
URL:
END:VEVENT
END:VCALENDAR