BEGIN:VCALENDAR
VERSION:2.0
PRODID:-//DP Pro Event Calendar//3.2.7//EN
BEGIN:VEVENT
UID:bca9b633-1b00-4f79-9e6f-a4e792b0f7b4
DTSTART;TZID=Europe/Rome:20220114T173000
DTEND;TZID=Europe/Rome:20220114T190000
DTSTAMP:20241027T023927Z
SUMMARY:Pensare il cristianesimo - Modulo 2
DESCRIPTION:Musica e Cristianesimo
LOCATION:Università Cattolica del Sacro Cuore - via Trieste\, Brescia
URL:
END:VEVENT
END:VCALENDAR