BEGIN:VCALENDAR
VERSION:2.0
PRODID:-//DP Pro Event Calendar//3.2.7//EN
BEGIN:VEVENT
UID:f017ab7c-549d-458b-8b7a-e915db963224
DTSTART;TZID=Europe/Rome:20220117T203000
DTEND;TZID=Europe/Rome:20220117T220000
DTSTAMP:20241027T024000Z
SUMMARY:Corso Educ. Ado
DESCRIPTION:
LOCATION:
URL:
END:VEVENT
END:VCALENDAR