BEGIN:VCALENDAR
VERSION:2.0
PRODID:-//DP Pro Event Calendar//3.2.7//EN
BEGIN:VEVENT
UID:22a77f12-5be9-4ef0-8a07-d673a6d55ae8
DTSTART;TZID=Europe/Rome:20220124T203000
DTEND;TZID=Europe/Rome:20220124T220000
DTSTAMP:20241027T024000Z
SUMMARY:Corso Educ. Ado
DESCRIPTION:
LOCATION:
URL:
END:VEVENT
END:VCALENDAR