BEGIN:VCALENDAR
VERSION:2.0
PRODID:-//DP Pro Event Calendar//3.2.7//EN
BEGIN:VEVENT
UID:9a040ccc-bbc6-4022-b088-5a1a848a1d5b
DTSTART;TZID=Europe/Rome:20220127T203000
DTEND;TZID=Europe/Rome:20220127T220000
DTSTAMP:20241027T024003Z
SUMMARY:Incontro Settimana Educativa
DESCRIPTION:In diretta streaming&nbsp\; -&nbsp\;L'intelligenza del Cuore
LOCATION:
URL:
END:VEVENT
END:VCALENDAR