BEGIN:VCALENDAR
VERSION:2.0
PRODID:-//DP Pro Event Calendar//3.2.7//EN
BEGIN:VEVENT
UID:0aa11d9d-2e2a-41ab-be2c-ff60a8b9a421
DTSTART;TZID=Europe/Rome:20220129T200000
DTEND;TZID=Europe/Rome:20220129T210000
DTSTAMP:20241027T024002Z
SUMMARY:Mandato alle Guide dell'Oratorio
DESCRIPTION:
LOCATION:Lumezzane S. Apollonio
URL:
END:VEVENT
END:VCALENDAR