BEGIN:VCALENDAR
VERSION:2.0
PRODID:-//DP Pro Event Calendar//3.2.7//EN
BEGIN:VEVENT
UID:001f4906-95f5-4f42-9d24-6dc575658d34
DTSTART;TZID=Europe/Rome;VALUE=DATE:20220131
DTEND;TZID=Europe/Rome;VALUE=DATE:20220201
DTSTAMP:20241027T024004Z
SUMMARY:San Giovanni Bosco
DESCRIPTION:
LOCATION:
URL:
END:VEVENT
END:VCALENDAR